BEGIN:VCALENDAR
VERSION:2.0
PRODID:-//Alumni - ECPv5.9.1//NONSGML v1.0//EN
CALSCALE:GREGORIAN
METHOD:PUBLISH
X-WR-CALNAME:Alumni
X-ORIGINAL-URL:http://alumni.sscbs.du.ac.in
X-WR-CALDESC:Events for Alumni
BEGIN:VTIMEZONE
TZID:UTC
BEGIN:STANDARD
TZOFFSETFROM:+0000
TZOFFSETTO:+0000
TZNAME:UTC
DTSTART:20200101T000000
END:STANDARD
END:VTIMEZONE
BEGIN:VEVENT
DTSTART;TZID=UTC:20200620T160000
DTEND;TZID=UTC:20200620T170000
DTSTAMP:20260422T231245
CREATED:20200617T061411Z
LAST-MODIFIED:20210930T062103Z
UID:7344-1592668800-1592672400@alumni.sscbs.du.ac.in
SUMMARY:A successful Failure: My ISB Journey
DESCRIPTION:Mr. Ritwik will be describing his journey for students to learn from their alum’s mistakes and experiences so that they may be better prepared to make better decisions and plan their careers. \nDate: 20th June2020 \nTime: 4pm – 5pm \nPlatform: Google Meet \nEvent Report
URL:http://alumni.sscbs.du.ac.in/event/a-successful-failure-my-isb-journey/
LOCATION:online
ATTACH;FMTTYPE=image/jpeg:http://alumni.sscbs.du.ac.in/wp-content/uploads/2021/09/ritwik-mallik.jpg
END:VEVENT
END:VCALENDAR